BEGIN:VCALENDAR
VERSION:2.0
PRODID:-//Town of Redington Shores - ECPv6.15.18//NONSGML v1.0//EN
CALSCALE:GREGORIAN
METHOD:PUBLISH
X-ORIGINAL-URL:https://townofredingtonshores.com
X-WR-CALDESC:Events for Town of Redington Shores
REFRESH-INTERVAL;VALUE=DURATION:PT1H
X-Robots-Tag:noindex
X-PUBLISHED-TTL:PT1H
BEGIN:VTIMEZONE
TZID:America/New_York
BEGIN:DAYLIGHT
TZOFFSETFROM:-0500
TZOFFSETTO:-0400
TZNAME:EDT
DTSTART:20220313T070000
END:DAYLIGHT
BEGIN:STANDARD
TZOFFSETFROM:-0400
TZOFFSETTO:-0500
TZNAME:EST
DTSTART:20221106T060000
END:STANDARD
BEGIN:DAYLIGHT
TZOFFSETFROM:-0500
TZOFFSETTO:-0400
TZNAME:EDT
DTSTART:20230312T070000
END:DAYLIGHT
BEGIN:STANDARD
TZOFFSETFROM:-0400
TZOFFSETTO:-0500
TZNAME:EST
DTSTART:20231105T060000
END:STANDARD
BEGIN:DAYLIGHT
TZOFFSETFROM:-0500
TZOFFSETTO:-0400
TZNAME:EDT
DTSTART:20240310T070000
END:DAYLIGHT
BEGIN:STANDARD
TZOFFSETFROM:-0400
TZOFFSETTO:-0500
TZNAME:EST
DTSTART:20241103T060000
END:STANDARD
END:VTIMEZONE
BEGIN:VEVENT
DTSTART;TZID=America/New_York:20230422T100000
DTEND;TZID=America/New_York:20230422T130000
DTSTAMP:20260423T062312
CREATED:20230328T200155Z
LAST-MODIFIED:20230418T162937Z
UID:8873-1682157600-1682168400@townofredingtonshores.com
SUMMARY:Turtle Nesting Beach Cleanup
DESCRIPTION:Click for larger \nCelebrate Earth Day with a Turtle Nesting Beach Clean up\nRegister online at WaterWarriorAlliance.org. \nPlease join us as we celebrate Earth Day by cleaning up a turtle nesting area. The event will start at 10 am\, on April 22\, 2023\, at Redington Shores Beach Access\, 18200 Sunset Blvd\, Redington Shores\, FL 33708. \nIn conjunction with the event\, Duke Energy is installing amber lighting on Redington Beach\, North Redington Beach\, and Redington Shores to deter the nesting turtles from the street lights that they often mistake for the moon. The amber lighting will also make it easier for the turtles to find their nests. \nThe event\, hosted by Water Warrior Alliance\, will feature a raffle; Jenna Byrne\, president of the Water Warrior Alliance\, said they expect a remarkable turnout but can always use more volunteers to help prepare the beach for nesting season. \nThe cleanup event will begin with guest speakers\, including the City of Redington Beach\, North Redington Beach\, and Redington Shores Mayors. Next\, a representative from Duke Energy will detail the turtle lighting plan\, which will instantly positively affect turtle nesting on Redington Beach\, North Redington Beach\, and Redington Shores. To conclude the event\, Water Warriors will clean-up the beach. Supplies and parking passes provided by Keep Pinellas Beautiful. \nWe will also hear from Yvette Fernandez\, Senior Biologist with the Sea Turtle Conservation Program at Clearwater Marine Aquarium. In addition\, volunteers will be stationed near the nests to share additional facts about the turtles\, their habitat\, and how we can best ensure their success as a species. \nPlease join us to learn\, listen and clean up the beach for Redington Beach\, North Redington Beach\, and Redington Shores. Sponsorship opportunities are available. \nLet us work together to celebrate Earth Day 2023! \nRSVP
URL:https://townofredingtonshores.com/event/turtle-nesting-beach-cleanup/
LOCATION:Redington Shores Public Beach Access\, 18200 Gulf Blvd.\, Redington Shores\, FL\, 33708\, United States
CATEGORIES:Special Event
END:VEVENT
END:VCALENDAR