BEGIN:VCALENDAR
VERSION:2.0
PRODID:-//Town of Redington Shores - ECPv6.15.18//NONSGML v1.0//EN
CALSCALE:GREGORIAN
METHOD:PUBLISH
X-ORIGINAL-URL:https://townofredingtonshores.com
X-WR-CALDESC:Events for Town of Redington Shores
REFRESH-INTERVAL;VALUE=DURATION:PT1H
X-Robots-Tag:noindex
X-PUBLISHED-TTL:PT1H
BEGIN:VTIMEZONE
TZID:America/New_York
BEGIN:DAYLIGHT
TZOFFSETFROM:-0500
TZOFFSETTO:-0400
TZNAME:EDT
DTSTART:20230312T070000
END:DAYLIGHT
BEGIN:STANDARD
TZOFFSETFROM:-0400
TZOFFSETTO:-0500
TZNAME:EST
DTSTART:20231105T060000
END:STANDARD
BEGIN:DAYLIGHT
TZOFFSETFROM:-0500
TZOFFSETTO:-0400
TZNAME:EDT
DTSTART:20240310T070000
END:DAYLIGHT
BEGIN:STANDARD
TZOFFSETFROM:-0400
TZOFFSETTO:-0500
TZNAME:EST
DTSTART:20241103T060000
END:STANDARD
BEGIN:DAYLIGHT
TZOFFSETFROM:-0500
TZOFFSETTO:-0400
TZNAME:EDT
DTSTART:20250309T070000
END:DAYLIGHT
BEGIN:STANDARD
TZOFFSETFROM:-0400
TZOFFSETTO:-0500
TZNAME:EST
DTSTART:20251102T060000
END:STANDARD
END:VTIMEZONE
BEGIN:VEVENT
DTSTART;TZID=America/New_York:20240821T180000
DTEND;TZID=America/New_York:20240821T190000
DTSTAMP:20260424T080516
CREATED:20240725T211804Z
LAST-MODIFIED:20240822T151856Z
UID:11526-1724263200-1724266800@townofredingtonshores.com
SUMMARY:Budget Workshop Meeting
DESCRIPTION:BOARD OF COMMISSIONERS\nTOWN OF REDINGTON SHORES\nBUDGET WORKSHOP MEETING\nWEDNESDAY\, AUGUST 21\, 2024 – 6:00 P.M.\nAGENDA\n  \nA. CALL TO ORDER \nB. PLEDGE OF ALLEGIANCE \nC. ROLL CALL \nD. APPEARANCES AND PRESENTATIONS \nE. OLD BUSINESS \n\nBudget Update and Discussion FY24/25\nCapital Improvement Plan (CIP)\n\nF. NEW BUSINESS \nG. MISCELLANEOUS \n\nWorkshop Meeting- Wednesday\, August 28\, 2024 – 6:00 P.M.\nFirst Budget Public Hearing – Wednesday\, September 4\, 2024 – 6:00 P.M\nRegular Meeting- Wednesday\, September 11\, 2024 – 6:00 P.M.\nFinal Budget Public Hearing – Monday\, September 16\, 2024 – 6:00 P.M\n\nH. ADJOURNMENT \nPursuant to Florida Statutes § 286.0105\, if any person or entity decides to appeal any decision made on any matter considered at any meeting or hearing of any Redington Shores Board or Commission\, he\, she or it will need a record of the proceedings and\, for such purpose\, he\, she or it may need to ensure that a verbatim record of the proceedings is made\, which record includes the legal arguments\, testimony\, and evidence upon which the appeal is to be based. \ndownload agenda pdf\nAudio ? \n\nAccommodations for Individuals with Disabilities. Individuals with special accessibility needs\, including sight or hearing impaired\, large print\, or interpreter\, should contact the Town Clerk at 727-397-5538 at least two business days prior to the meeting.
URL:https://townofredingtonshores.com/event/budget-workshop-meeting-2/
LOCATION:Town Hall\, 17425 Gulf Blvd.\, Redington Shores\, FL\, 33708\, United States
CATEGORIES:meeting,workshop
END:VEVENT
END:VCALENDAR