BEGIN:VCALENDAR
VERSION:2.0
PRODID:-//Town of Redington Shores - ECPv6.15.18//NONSGML v1.0//EN
CALSCALE:GREGORIAN
METHOD:PUBLISH
X-ORIGINAL-URL:https://townofredingtonshores.com
X-WR-CALDESC:Events for Town of Redington Shores
REFRESH-INTERVAL;VALUE=DURATION:PT1H
X-Robots-Tag:noindex
X-PUBLISHED-TTL:PT1H
BEGIN:VTIMEZONE
TZID:America/New_York
BEGIN:DAYLIGHT
TZOFFSETFROM:-0500
TZOFFSETTO:-0400
TZNAME:EDT
DTSTART:20210314T070000
END:DAYLIGHT
BEGIN:STANDARD
TZOFFSETFROM:-0400
TZOFFSETTO:-0500
TZNAME:EST
DTSTART:20211107T060000
END:STANDARD
BEGIN:DAYLIGHT
TZOFFSETFROM:-0500
TZOFFSETTO:-0400
TZNAME:EDT
DTSTART:20220313T070000
END:DAYLIGHT
BEGIN:STANDARD
TZOFFSETFROM:-0400
TZOFFSETTO:-0500
TZNAME:EST
DTSTART:20221106T060000
END:STANDARD
BEGIN:DAYLIGHT
TZOFFSETFROM:-0500
TZOFFSETTO:-0400
TZNAME:EDT
DTSTART:20230312T070000
END:DAYLIGHT
BEGIN:STANDARD
TZOFFSETFROM:-0400
TZOFFSETTO:-0500
TZNAME:EST
DTSTART:20231105T060000
END:STANDARD
END:VTIMEZONE
BEGIN:VEVENT
DTSTART;TZID=America/New_York:20221109T180000
DTEND;TZID=America/New_York:20221109T190000
DTSTAMP:20260425T095235
CREATED:20210810T154036Z
LAST-MODIFIED:20221104T203058Z
UID:6670-1668016800-1668020400@townofredingtonshores.com
SUMMARY:Commission Meeting
DESCRIPTION:BOARD OF COMMISSIONERS\nTOWN OF REDINGTON SHORES\nREGULAR MEETING\nWEDNESDAY\, NOVEMBER 9\, 2022 – 6:00 P.M.\nAGENDA\n                            \nCALL TO ORDER \nPLEDGE OF ALLEGIANCE \nROLL CALL \nConsent Agenda \n\nAPPROVAL OF MINUTES –Regular Meeting October 12; Workshop Meeting October 26\n\nAPPEARANCES AND PRESENTATIONS \n\nIndian Shores Police Department presentation of life saving commendations\nIndian Shores Police Department presentation of FDOT Traffic Award\n\nOLD BUSINESS \n\nRequest authorization for Miller Pipeline to begin work on stormwater repairs\n\nNEW BUSINESS \n\nBudget amendment Res 07-22\nRefuse rate increase Res 08-22\nApproval of Building Official\n\nPUBLIC COMMENTS \n  \nMISCELLANEOUS \n\nWorkshop Meeting – Wednesday\, November 30\, 2022 – 6:00 p.m.\nRegular Meeting – Wednesday\, December 14\, 2022 – 6:00 p.m.\n\nCOMMISSION REPORTS \n\nMayor Henderson\nVice Mayor Krouk\, Commissioner District No 2\nCommissioner Blackburn\, District No 1\nCommissioner Later\, District No 3\nCommissioner Krajewski\, Commissioner District No 4\nTown Attorney\nTown Administrator\n\nADJOURNMENT \n“Persons are advised that\, if they decide to appeal any decisions made at this meeting\, they will need a record of the proceedings\, and\, for such purpose\, they may need to ensure that a verbatim record of the proceedings is made\, which record includes the testimony and evidence upon which the appeal is to be based.” \n“The Town maintains a tape recorder for all public hearings.  In the event that you wish to appeal a decision\, the tape may or may not adequately ensure a verbatim record of the proceedings.  Therefore\, you may wish to provide a court reporter at your expense.”\n  \nDOWNLOAD AGENDA PACKET\nDOWNLOAD PDF: STORMWATER REPAIRS\n* This PDF file may include documents from other parties that are photo copies which may not be compatible with screen readers. If you need assistance reading any of these documents\, please call us at 727-397-5538.
URL:https://townofredingtonshores.com/event/commission-meeting-36/
LOCATION:Town Hall\, 17425 Gulf Blvd.\, Redington Shores\, FL\, 33708\, United States
CATEGORIES:meeting
END:VEVENT
END:VCALENDAR