BEGIN:VCALENDAR
VERSION:2.0
PRODID:-//Town of Redington Shores - ECPv6.15.18//NONSGML v1.0//EN
CALSCALE:GREGORIAN
METHOD:PUBLISH
X-ORIGINAL-URL:https://townofredingtonshores.com
X-WR-CALDESC:Events for Town of Redington Shores
REFRESH-INTERVAL;VALUE=DURATION:PT1H
X-Robots-Tag:noindex
X-PUBLISHED-TTL:PT1H
BEGIN:VTIMEZONE
TZID:America/New_York
BEGIN:DAYLIGHT
TZOFFSETFROM:-0500
TZOFFSETTO:-0400
TZNAME:EDT
DTSTART:20210314T070000
END:DAYLIGHT
BEGIN:STANDARD
TZOFFSETFROM:-0400
TZOFFSETTO:-0500
TZNAME:EST
DTSTART:20211107T060000
END:STANDARD
BEGIN:DAYLIGHT
TZOFFSETFROM:-0500
TZOFFSETTO:-0400
TZNAME:EDT
DTSTART:20220313T070000
END:DAYLIGHT
BEGIN:STANDARD
TZOFFSETFROM:-0400
TZOFFSETTO:-0500
TZNAME:EST
DTSTART:20221106T060000
END:STANDARD
BEGIN:DAYLIGHT
TZOFFSETFROM:-0500
TZOFFSETTO:-0400
TZNAME:EDT
DTSTART:20230312T070000
END:DAYLIGHT
BEGIN:STANDARD
TZOFFSETFROM:-0400
TZOFFSETTO:-0500
TZNAME:EST
DTSTART:20231105T060000
END:STANDARD
END:VTIMEZONE
BEGIN:VEVENT
DTSTART;TZID=America/New_York:20221228T180000
DTEND;TZID=America/New_York:20221228T183000
DTSTAMP:20260424T204211
CREATED:20221222T184724Z
LAST-MODIFIED:20221222T184855Z
UID:8431-1672250400-1672252200@townofredingtonshores.com
SUMMARY:Special Meeting
DESCRIPTION:SPECIAL MEETING\nBOARD OF COMMISSIONERS\nTOWN OF REDINGTON SHORES\nWEDNESDAY\, DECEMBER 28\, 2022 – 6:00 P.M.\nAGENDA\n  \nCALL TO ORDER \nPLEDGE OF ALLEGIANCE \nROLL CALL \nAPPEARANCES AND PRESENTATIONS \n\nNone\n\nOLD BUSINESS \n\n1st Reading Ordinance No. 2022-11; Amending Vacation Rentals\n\nNEW BUSINESS \n\nNone\n\nMISCELLANEOUS \n\nSpecial Meeting – Tuesday\, January 3\, 2023 – 6:00 p.m.\nRegular Meeting – Wednesday\, January 11\, 2023 – 6:00 p.m.\n\nADJOURNMENT \n“Persons are advised that\, if they decide to appeal any decisions made at this meeting\, they will need a record of the proceedings\, and\, for such purpose\, they may need to ensure that a verbatim record of the proceedings is made\, which record includes the testimony and evidence upon which the appeal is to be based.” \n“The Town maintains a tape recorder for all public hearings. In the event that you wish to appeal a decision\, the tape may or may not adequately ensure a verbatim record of the proceedings. Therefore\, you may wish to provide a court reporter at your expense.” \n\n  \nDOWNLOAD AGENDA PACKET\n* This PDF file may include documents from other parties that are photo copies which may not be compatible with screen readers. If you need assistance reading any of these documents\, please call us at 727-397-5538.
URL:https://townofredingtonshores.com/event/special-meeting-2/
LOCATION:Town Hall\, 17425 Gulf Blvd.\, Redington Shores\, FL\, 33708\, United States
CATEGORIES:meeting
END:VEVENT
BEGIN:VEVENT
DTSTART;TZID=America/New_York:20221228T183000
DTEND;TZID=America/New_York:20221228T190000
DTSTAMP:20260424T204211
CREATED:20210810T154212Z
LAST-MODIFIED:20221229T141204Z
UID:6676-1672252200-1672254000@townofredingtonshores.com
SUMMARY:Workshop Meeting
DESCRIPTION:WORKSHOP MEETING\nBOARD OF COMMISSIONERS\nTOWN OF REDINGTON SHORES\nWEDNESDAY\, DECEMBER 28\, 2022 – UPON ADJOURNMENT OF SPECIAL MEETING\nAGENDA\n  \nCALL TO ORDER \nPLEDGE OF ALLEGIANCE \nROLL CALL \nAPPEARANCES AND PRESENTATIONS \n\nNone\n\nOLD BUSINESS \n\nTown Hall Parking Agreement\n\nNEW BUSINESS \n\nDiscussion of Legal Representation\nTampa Bay Resiliency Ordinance\n\nMISCELLANEOUS \n\nSpecial Meeting – Tuesday\, January 3\, 2023 – 6:00 p.m.\nRegular Meeting – Wednesday\, January 11\, 2023 – 6:00 p.m.\n\nADJOURNMENT \n“Persons are advised that\, if they decide to appeal any decisions made at this meeting\, they will need a record of the proceedings\, and\,\nfor such purpose\, they may need to ensure that a verbatim record of the proceedings is made\, which record includes the testimony and\nevidence upon which the appeal is to be based.” \n“The Town maintains a tape recorder for all public hearings. In the event that you wish to appeal a decision\, the tape may or may not\nadequately ensure a verbatim record of the proceedings. Therefore\, you may wish to provide a court reporter at your expense.” \n\n  \nDOWNLOAD AGENDA PACKET\n* This PDF file may include documents from other parties that are photo copies which may not be compatible with screen readers. If you need assistance reading any of these documents\, please call us at 727-397-5538.
URL:https://townofredingtonshores.com/event/workshop-meeting-34/
LOCATION:Town Hall\, 17425 Gulf Blvd.\, Redington Shores\, FL\, 33708\, United States
CATEGORIES:meeting
END:VEVENT
END:VCALENDAR