BEGIN:VCALENDAR
VERSION:2.0
PRODID:-//Town of Redington Shores - ECPv6.15.18//NONSGML v1.0//EN
CALSCALE:GREGORIAN
METHOD:PUBLISH
X-WR-CALNAME:Town of Redington Shores
X-ORIGINAL-URL:https://townofredingtonshores.com
X-WR-CALDESC:Events for Town of Redington Shores
REFRESH-INTERVAL;VALUE=DURATION:PT1H
X-Robots-Tag:noindex
X-PUBLISHED-TTL:PT1H
BEGIN:VTIMEZONE
TZID:America/New_York
BEGIN:DAYLIGHT
TZOFFSETFROM:-0500
TZOFFSETTO:-0400
TZNAME:EDT
DTSTART:20220313T070000
END:DAYLIGHT
BEGIN:STANDARD
TZOFFSETFROM:-0400
TZOFFSETTO:-0500
TZNAME:EST
DTSTART:20221106T060000
END:STANDARD
BEGIN:DAYLIGHT
TZOFFSETFROM:-0500
TZOFFSETTO:-0400
TZNAME:EDT
DTSTART:20230312T070000
END:DAYLIGHT
BEGIN:STANDARD
TZOFFSETFROM:-0400
TZOFFSETTO:-0500
TZNAME:EST
DTSTART:20231105T060000
END:STANDARD
BEGIN:DAYLIGHT
TZOFFSETFROM:-0500
TZOFFSETTO:-0400
TZNAME:EDT
DTSTART:20240310T070000
END:DAYLIGHT
BEGIN:STANDARD
TZOFFSETFROM:-0400
TZOFFSETTO:-0500
TZNAME:EST
DTSTART:20241103T060000
END:STANDARD
END:VTIMEZONE
BEGIN:VEVENT
DTSTART;TZID=America/New_York:20230111T180000
DTEND;TZID=America/New_York:20230111T190000
DTSTAMP:20260425T112708
CREATED:20221213T210536Z
LAST-MODIFIED:20230109T153037Z
UID:8369-1673460000-1673463600@townofredingtonshores.com
SUMMARY:Commission Meeting
DESCRIPTION:BOARD OF COMMISSIONERS\nTOWN OF REDINGTON SHORES\nREGULAR MEETING\nWEDNESDAY\, January 11\, 2023 – 6:00 P.M.\nAGENDA \n  \n  \nCALL TO ORDER \nPLEDGE OF ALLEGIANCE \nROLL CALL \nConsent Agenda \nAPPROVAL OF MINUTES –Regular Meeting December 14; Workshop Meeting December 28; Workshop Meeting January 9. \nAPPEARANCES AND PRESENTATIONS \n\nFlorida League of Cities- Training Recognition for Commissioner Later\n\nOLD BUSINESS \n\n2nd Reading of Ordinance No. 2022-11; Amending Vacation Rentals\nNaming of the Audit Selection Committee\nAdoption of Resolution No. 08-22; Solid Waste Rate Increase\n\nNEW BUSINESS \n\nRequest for Variance Fee Waiver\nOctober and November Monthly Financial Reports\nYear End Financial Report\n\nPUBLIC COMMENTS \n  \nMISCELLANEOUS \n\nSpecial Workshop Meeting- Tuesday\, January 17\, 2023- 2:30 p.m.\nWorkshop Meeting- Wednesday\, January 25\, 2023- 6:00 p.m.\n\nCOMMISSION REPORTS \n\nMayor Henderson\nVice Mayor Krouk\, Commissioner District No 2\nCommissioner Blackburn\, District No 1\nCommissioner Later\, District No 3\nCommissioner Krajewski\, Commissioner District No 4\nTown Attorney\nTown Administrator\n\nADJOURNMENT \n“Persons are advised that\, if they decide to appeal any decisions made at this meeting\, they will need a record of the proceedings\, and\, for such purpose\, they may need to ensure that a verbatim record of the proceedings is made\, which record includes the testimony and evidence upon which the appeal is to be based.” \n“The Town maintains a tape recorder for all public hearings.  In the event that you wish to appeal a decision\, the tape may or may not adequately ensure a verbatim record of the proceedings.  Therefore\, you may wish to provide a court reporter at your expense.” \n\n  \nDOWNLOAD AGENDA PACKET\n* This PDF file may include documents from other parties that are photo copies which may not be compatible with screen readers. If you need assistance reading any of these documents\, please call us at 727-397-5538.
URL:https://townofredingtonshores.com/event/commission-meeting/
LOCATION:Town Hall\, 17425 Gulf Blvd.\, Redington Shores\, FL\, 33708\, United States
CATEGORIES:meeting
END:VEVENT
END:VCALENDAR