BEGIN:VCALENDAR
VERSION:2.0
PRODID:-//Town of Redington Shores - ECPv6.15.18//NONSGML v1.0//EN
CALSCALE:GREGORIAN
METHOD:PUBLISH
X-ORIGINAL-URL:https://townofredingtonshores.com
X-WR-CALDESC:Events for Town of Redington Shores
REFRESH-INTERVAL;VALUE=DURATION:PT1H
X-Robots-Tag:noindex
X-PUBLISHED-TTL:PT1H
BEGIN:VTIMEZONE
TZID:America/New_York
BEGIN:DAYLIGHT
TZOFFSETFROM:-0500
TZOFFSETTO:-0400
TZNAME:EDT
DTSTART:20250309T070000
END:DAYLIGHT
BEGIN:STANDARD
TZOFFSETFROM:-0400
TZOFFSETTO:-0500
TZNAME:EST
DTSTART:20251102T060000
END:STANDARD
BEGIN:DAYLIGHT
TZOFFSETFROM:-0500
TZOFFSETTO:-0400
TZNAME:EDT
DTSTART:20260308T070000
END:DAYLIGHT
BEGIN:STANDARD
TZOFFSETFROM:-0400
TZOFFSETTO:-0500
TZNAME:EST
DTSTART:20261101T060000
END:STANDARD
BEGIN:DAYLIGHT
TZOFFSETFROM:-0500
TZOFFSETTO:-0400
TZNAME:EDT
DTSTART:20270314T070000
END:DAYLIGHT
BEGIN:STANDARD
TZOFFSETFROM:-0400
TZOFFSETTO:-0500
TZNAME:EST
DTSTART:20271107T060000
END:STANDARD
END:VTIMEZONE
BEGIN:VEVENT
DTSTART;TZID=America/New_York:20260314T090000
DTEND;TZID=America/New_York:20260314T140000
DTSTAMP:20260425T112532
CREATED:20260219T172523Z
LAST-MODIFIED:20260219T172523Z
UID:14334-1773478800-1773496800@townofredingtonshores.com
SUMMARY:2026 St. Patrick's Day Festival
DESCRIPTION:The 2026 St. Patrick’s Day Festival will be held on Saturday March 14th\, 2026\, from 9 am to 2 pm at Indian Shores Municipal Center – 19305 Gulf Blvd.  \n\nIrish Music & Dancers\nIrish Bagpiper\nHarp Player\nVendors\nPhoto Booth\nFood\, Beer & Wine\nBook Sale\nISPOA T-Shirts & Bricks\nDJ\n\n\nFree Festival Parking & Shuttle Service at Oakhurst Methodist Church 13400 Park Blvd N\, Seminole\, FL. \n\n\nClick on flyer to enlarge
URL:https://townofredingtonshores.com/event/2026-st-patricks-day-festival/
LOCATION:Indian Shores Municipal Building\, 19305 Gulf Blvd.\, Indian Shores\, FL\, 33785\, United States
CATEGORIES:Special Event
END:VEVENT
BEGIN:VEVENT
DTSTART;TZID=America/New_York:20260511T170000
DTEND;TZID=America/New_York:20260511T190000
DTSTAMP:20260425T112532
CREATED:20260424T155237Z
LAST-MODIFIED:20260424T155237Z
UID:14608-1778518800-1778526000@townofredingtonshores.com
SUMMARY:Hurricane Awareness & Preparation Workshop
DESCRIPTION:Are YOU prepared? \nHurricane Season begins June 1st! Make sure you are prepared. Join us for our Hurricane Awareness & Preparation Workshop on Monday\, May 11th\, 2026\, from 5:00 -7:00 p.m. at Indian Shores 4th Floor Community Center. \nFREE RAFFLE: FANTASTIC GIVEAWAYS! \nWe have a panel of experts ready to give you the information you’ll need this season\, featuring keynote speaker Brian McClure\, meteorologist at Bay News 9! \n\n5:00 p.m. – Brian McClure\n6:00 p.m. – Fire Chief Grimes\n6:15 p.m. – First Raffle Drawing\n6:20 p.m. – Building Official Brian Rusu\n6:35 p.m. – Police Chief Lee Ann Holroyd\n6:50 p.m. – Second Raffle Drawing\n\nLight refreshments will be served. Limited seating & parking available.  \n  \nClick to view larger
URL:https://townofredingtonshores.com/event/hurricane-awareness-preparation-workshop/
LOCATION:Indian Shores Municipal Building\, 19305 Gulf Blvd.\, Indian Shores\, FL\, 33785\, United States
CATEGORIES:flood and hurricane,Special Event
END:VEVENT
END:VCALENDAR